Workbook

Sheet Nöbet Çizelgesi
A1: Hemşire Nöbet Çizelgesi
A2: Servis | B2: Dahiliye
A3: Yıl | B3: 2026 | D3: Yıl ve ayı değiştirin; günler ve gün adları kendiliğinden güncellenir.
A4: Ay (1-12) | B4: 11
A6: Hemşire | B6: =IF(1<=DAY(EOMONTH(DATE($B$3,$B$4,1),0)),1,"") -> 1 | C6: =IF(2<=DAY(EOMONTH(DATE($B$3,$B$4,1),0)),2,"") -> 2 | D6: =IF(3<=DAY(EOMONTH(DATE($B$3,$B$4,1),0)),3,"") -> 3 | E6: =IF(4<=DAY(EOMONTH(DATE($B$3,$B$4,1),0)),4,"") -> 4 | F6: =IF(5<=DAY(EOMONTH(DATE($B$3,$B$4,1),0)),5,"") -> 5 | G6: =IF(6<=DAY(EOMONTH(DATE($B$3,$B$4,1),0)),6,"") -> 6 | H6: =IF(7<=DAY(EOMONTH(DATE($B$3,$B$4,1),0)),7,"") -> 7 | I6: =IF(8<=DAY(EOMONTH(DATE($B$3,$B$4,1),0)),8,"") -> 8 | J6: =IF(9<=DAY(EOMONTH(DATE($B$3,$B$4,1),0)),9,"") -> 9 | K6: =IF(10<=DAY(EOMONTH(DATE($B$3,$B$4,1),0)),10,"") -> 10 | L6: =IF(11<=DAY(EOMONTH(DATE($B$3,$B$4,1),0)),11,"") -> 11 | M6: =IF(12<=DAY(EOMONTH(DATE($B$3,$B$4,1),0)),12,"") -> 12 | N6: =IF(13<=DAY(EOMONTH(DATE($B$3,$B$4,1),0)),13,"") -> 13 | O6: =IF(14<=DAY(EOMONTH(DATE($B$3,$B$4,1),0)),14,"") -> 14 | P6: =IF(15<=DAY(EOMONTH(DATE($B$3,$B$4,1),0)),15,"") -> 15 | Q6: =IF(16<=DAY(EOMONTH(DATE($B$3,$B$4,1),0)),16,"") -> 16 | R6: =IF(17<=DAY(EOMONTH(DATE($B$3,$B$4,1),0)),17,"") -> 17 | S6: =IF(18<=DAY(EOMONTH(DATE($B$3,$B$4,1),0)),18,"") -> 18 | T6: =IF(19<=DAY(EOMONTH(DATE($B$3,$B$4,1),0)),19,"") -> 19 | U6: =IF(20<=DAY(EOMONTH(DATE($B$3,$B$4,1),0)),20,"") -> 20 | V6: =IF(21<=DAY(EOMONTH(DATE($B$3,$B$4,1),0)),21,"") -> 21 | W6: =IF(22<=DAY(EOMONTH(DATE($B$3,$B$4,1),0)),22,"") -> 22 | X6: =IF(23<=DAY(EOMONTH(DATE($B$3,$B$4,1),0)),23,"") -> 23 | Y6: =IF(24<=DAY(EOMONTH(DATE($B$3,$B$4,1),0)),24,"") -> 24 | Z6: =IF(25<=DAY(EOMONTH(DATE($B$3,$B$4,1),0)),25,"") -> 25 | AA6: =IF(26<=DAY(EOMONTH(DATE($B$3,$B$4,1),0)),26,"") -> 26 | AB6: =IF(27<=DAY(EOMONTH(DATE($B$3,$B$4,1),0)),27,"") -> 27 | AC6: =IF(28<=DAY(EOMONTH(DATE($B$3,$B$4,1),0)),28,"") -> 28 | AD6: =IF(29<=DAY(EOMONTH(DATE($B$3,$B$4,1),0)),29,"") -> 29 | AE6: =IF(30<=DAY(EOMONTH(DATE($B$3,$B$4,1),0)),30,"") -> 30 | AF6: =IF(31<=DAY(EOMONTH(DATE($B$3,$B$4,1),0)),31,"") | AG6: G | AH6: N | AI6: 24 | AJ6: Hafta sonu | AK6: Toplam saat
B7: =IF(B6="","",CHOOSE(WEEKDAY(DATE($B$3,$B$4,B6),2),"Pzt","Sal","Çar","Per","Cum","Cmt","Paz")) -> Paz | C7: =IF(C6="","",CHOOSE(WEEKDAY(DATE($B$3,$B$4,C6),2),"Pzt","Sal","Çar","Per","Cum","Cmt","Paz")) -> Pzt | D7: =IF(D6="","",CHOOSE(WEEKDAY(DATE($B$3,$B$4,D6),2),"Pzt","Sal","Çar","Per","Cum","Cmt","Paz")) -> Sal | E7: =IF(E6="","",CHOOSE(WEEKDAY(DATE($B$3,$B$4,E6),2),"Pzt","Sal","Çar","Per","Cum","Cmt","Paz")) -> Çar | F7: =IF(F6="","",CHOOSE(WEEKDAY(DATE($B$3,$B$4,F6),2),"Pzt","Sal","Çar","Per","Cum","Cmt","Paz")) -> Per | G7: =IF(G6="","",CHOOSE(WEEKDAY(DATE($B$3,$B$4,G6),2),"Pzt","Sal","Çar","Per","Cum","Cmt","Paz")) -> Cum | H7: =IF(H6="","",CHOOSE(WEEKDAY(DATE($B$3,$B$4,H6),2),"Pzt","Sal","Çar","Per","Cum","Cmt","Paz")) -> Cmt | I7: =IF(I6="","",CHOOSE(WEEKDAY(DATE($B$3,$B$4,I6),2),"Pzt","Sal","Çar","Per","Cum","Cmt","Paz")) -> Paz | ... AF7: =IF(AF6="","",CHOOSE(WEEKDAY(DATE($B$3,$B$4,AF6),2),"Pzt","Sal","Çar","Per","Cum","Cmt","Paz"))
A8: Ayşe Yılmaz | B8: G | C8: G | D8: N | G8: G | H8: G | I8: N | L8: G | M8: G | N8: N | Q8: G | R8: G | S8: N | V8: G | W8: G | X8: N | AA8: G | AB8: G | AC8: N | AG8: =COUNTIF(B8:AF8,"G") -> 12 | AH8: =COUNTIF(B8:AF8,"N") -> 6 | AI8: =COUNTIF(B8:AF8,"24") -> 0 | AJ8: =SUMPRODUCT(((B$7:AF$7="Cmt")+(B$7:AF$7="Paz"))*(((B8:AF8&"")="G")+((B8:AF8&"")="N")+((B8:AF8&"")="24"))) -> 6 | AK8: =SUMPRODUCT(COUNTIF(B8:AF8,Kodlar!$A$2:$A$12)*Kodlar!$C$2:$C$12) -> 192
A9: Elif Kaya | B9: G | C9: N | F9: G | G9: G | H9: N | K9: G | L9: G | M9: N | P9: G | Q9: G | R9: N | U9: G | V9: G | W9: N | Z9: G | AA9: G | AB9: N | AE9: G | AG9: =COUNTIF(B9:AF9,"G") -> 12 | AH9: =COUNTIF(B9:AF9,"N") -> 6 | AI9: =COUNTIF(B9:AF9,"24") -> 0 | AJ9: =SUMPRODUCT(((B$7:AF$7="Cmt")+(B$7:AF$7="Paz"))*(((B9:AF9&"")="G")+((B9:AF9&"")="N")+((B9:AF9&"")="24"))) -> 5 | AK9: =SUMPRODUCT(COUNTIF(B9:AF9,Kodlar!$A$2:$A$12)*Kodlar!$C$2:$C$12) -> 192
A10: Zeynep Demir | B10: N | E10: G | F10: G | G10: N | J10: G | K10: G | L10: N | O10: G | P10: G | Q10: S.İ | R10: S.İ | S10: S.İ | T10: S.İ | U10: S.İ | V10: N | Y10: G | Z10: G | AA10: N | AD10: G | AE10: G | AG10: =COUNTIF(B10:AF10,"G") -> 10 | AH10: =COUNTIF(B10:AF10,"N") -> 5 | AI10: =COUNTIF(B10:AF10,"24") -> 0 | AJ10: =SUMPRODUCT(((B$7:AF$7="Cmt")+(B$7:AF$7="Paz"))*(((B10:AF10&"")="G")+((B10:AF10&"")="N")+((B10:AF10&"")="24"))) -> 5 | AK10: =SUMPRODUCT(COUNTIF(B10:AF10,Kodlar!$A$2:$A$12)*Kodlar!$C$2:$C$12) -> 160
A11: Merve Şahin | D11: G | E11: G | F11: N | I11: G | J11: G | K11: N | N11: G | O11: G | P11: N | S11: G | T11: G | U11: N | X11: G | Y11: G | Z11: N | AC11: G | AD11: G | AE11: N | AG11: =COUNTIF(B11:AF11,"G") -> 12 | AH11: =COUNTIF(B11:AF11,"N") -> 6 | AI11: =COUNTIF(B11:AF11,"24") -> 0 | AJ11: =SUMPRODUCT(((B$7:AF$7="Cmt")+(B$7:AF$7="Paz"))*(((B11:AF11&"")="G")+((B11:AF11&"")="N")+((B11:AF11&"")="24"))) -> 5 | AK11: =SUMPRODUCT(COUNTIF(B11:AF11,Kodlar!$A$2:$A$12)*Kodlar!$C$2:$C$12) -> 192
A12: Fatma Çelik | C12: G | D12: G | E12: N | H12: G | I12: G | J12: N | M12: G | N12: G | O12: N | R12: G | S12: G | T12: N | W12: G | X12: G | Y12: N | AB12: G | AC12: G | AD12: N | AG12: =COUNTIF(B12:AF12,"G") -> 12 | AH12: =COUNTIF(B12:AF12,"N") -> 6 | AI12: =COUNTIF(B12:AF12,"24") -> 0 | AJ12: =SUMPRODUCT(((B$7:AF$7="Cmt")+(B$7:AF$7="Paz"))*(((B12:AF12&"")="G")+((B12:AF12&"")="N")+((B12:AF12&"")="24"))) -> 6 | AK12: =SUMPRODUCT(COUNTIF(B12:AF12,Kodlar!$A$2:$A$12)*Kodlar!$C$2:$C$12) -> 192
A13: Büşra Arslan | B13: G | C13: G | D13: N | G13: G | H13: G | I13: N | L13: G | M13: G | N13: N | Q13: G | R13: G | S13: N | V13: G | W13: G | X13: N | AA13: G | AB13: G | AC13: N | AG13: =COUNTIF(B13:AF13,"G") -> 12 | AH13: =COUNTIF(B13:AF13,"N") -> 6 | AI13: =COUNTIF(B13:AF13,"24") -> 0 | AJ13: =SUMPRODUCT(((B$7:AF$7="Cmt")+(B$7:AF$7="Paz"))*(((B13:AF13&"")="G")+((B13:AF13&"")="N")+((B13:AF13&"")="24"))) -> 6 | AK13: =SUMPRODUCT(COUNTIF(B13:AF13,Kodlar!$A$2:$A$12)*Kodlar!$C$2:$C$12) -> 192
A14: Esra Doğan | B14: G | C14: N | F14: G | G14: G | H14: N | J14: R | K14: R | L14: G | M14: N | P14: G | Q14: G | R14: N | U14: G | V14: G | W14: N | Z14: G | AA14: G | AB14: N | AE14: G | AG14: =COUNTIF(B14:AF14,"G") -> 11 | AH14: =COUNTIF(B14:AF14,"N") -> 6 | AI14: =COUNTIF(B14:AF14,"24") -> 0 | AJ14: =SUMPRODUCT(((B$7:AF$7="Cmt")+(B$7:AF$7="Paz"))*(((B14:AF14&"")="G")+((B14:AF14&"")="N")+((B14:AF14&"")="24"))) -> 5 | AK14: =SUMPRODUCT(COUNTIF(B14:AF14,Kodlar!$A$2:$A$12)*Kodlar!$C$2:$C$12) -> 184
A15: Seda Koç | B15: N | E15: G | F15: G | G15: N | J15: G | K15: G | L15: N | O15: G | P15: G | Q15: N | T15: G | U15: G | V15: N | Y15: G | Z15: G | AA15: N | AD15: G | AE15: G | AG15: =COUNTIF(B15:AF15,"G") -> 12 | AH15: =COUNTIF(B15:AF15,"N") -> 6 | AI15: =COUNTIF(B15:AF15,"24") -> 0 | AJ15: =SUMPRODUCT(((B$7:AF$7="Cmt")+(B$7:AF$7="Paz"))*(((B15:AF15&"")="G")+((B15:AF15&"")="N")+((B15:AF15&"")="24"))) -> 5 | AK15: =SUMPRODUCT(COUNTIF(B15:AF15,Kodlar!$A$2:$A$12)*Kodlar!$C$2:$C$12) -> 192
A16: Gizem Aydın | D16: G | E16: G | F16: N | I16: G | J16: G | K16: N | N16: G | O16: G | P16: N | S16: G | T16: G | U16: N | X16: G | Y16: G | Z16: N | AC16: G | AD16: G | AE16: N | AG16: =COUNTIF(B16:AF16,"G") -> 12 | AH16: =COUNTIF(B16:AF16,"N") -> 6 | AI16: =COUNTIF(B16:AF16,"24") -> 0 | AJ16: =SUMPRODUCT(((B$7:AF$7="Cmt")+(B$7:AF$7="Paz"))*(((B16:AF16&"")="G")+((B16:AF16&"")="N")+((B16:AF16&"")="24"))) -> 5 | AK16: =SUMPRODUCT(COUNTIF(B16:AF16,Kodlar!$A$2:$A$12)*Kodlar!$C$2:$C$12) -> 192
A17: Hatice Öztürk | C17: G | D17: G | E17: N | H17: G | I17: G | J17: N | M17: G | N17: G | O17: N | R17: G | S17: G | T17: N | W17: G | X17: G | Y17: N | AB17: G | AC17: G | AD17: N | AG17: =COUNTIF(B17:AF17,"G") -> 12 | AH17: =COUNTIF(B17:AF17,"N") -> 6 | AI17: =COUNTIF(B17:AF17,"24") -> 0 | AJ17: =SUMPRODUCT(((B$7:AF$7="Cmt")+(B$7:AF$7="Paz"))*(((B17:AF17&"")="G")+((B17:AF17&"")="N")+((B17:AF17&"")="24"))) -> 6 | AK17: =SUMPRODUCT(COUNTIF(B17:AF17,Kodlar!$A$2:$A$12)*Kodlar!$C$2:$C$12) -> 192
AG18: =COUNTIF(B18:AF18,"G") -> 0 | AH18: =COUNTIF(B18:AF18,"N") -> 0 | AI18: =COUNTIF(B18:AF18,"24") -> 0 | AJ18: =SUMPRODUCT(((B$7:AF$7="Cmt")+(B$7:AF$7="Paz"))*(((B18:AF18&"")="G")+((B18:AF18&"")="N")+((B18:AF18&"")="24"))) -> 0 | AK18: =SUMPRODUCT(COUNTIF(B18:AF18,Kodlar!$A$2:$A$12)*Kodlar!$C$2:$C$12) -> 0
AG19: =COUNTIF(B19:AF19,"G") -> 0 | AH19: =COUNTIF(B19:AF19,"N") -> 0 | AI19: =COUNTIF(B19:AF19,"24") -> 0 | AJ19: =SUMPRODUCT(((B$7:AF$7="Cmt")+(B$7:AF$7="Paz"))*(((B19:AF19&"")="G")+((B19:AF19&"")="N")+((B19:AF19&"")="24"))) -> 0 | AK19: =SUMPRODUCT(COUNTIF(B19:AF19,Kodlar!$A$2:$A$12)*Kodlar!$C$2:$C$12) -> 0
AG20: =COUNTIF(B20:AF20,"G") -> 0 | AH20: =COUNTIF(B20:AF20,"N") -> 0 | AI20: =COUNTIF(B20:AF20,"24") -> 0 | AJ20: =SUMPRODUCT(((B$7:AF$7="Cmt")+(B$7:AF$7="Paz"))*(((B20:AF20&"")="G")+((B20:AF20&"")="N")+((B20:AF20&"")="24"))) -> 0 | AK20: =SUMPRODUCT(COUNTIF(B20:AF20,Kodlar!$A$2:$A$12)*Kodlar!$C$2:$C$12) -> 0
AG21: =COUNTIF(B21:AF21,"G") -> 0 | AH21: =COUNTIF(B21:AF21,"N") -> 0 | AI21: =COUNTIF(B21:AF21,"24") -> 0 | AJ21: =SUMPRODUCT(((B$7:AF$7="Cmt")+(B$7:AF$7="Paz"))*(((B21:AF21&"")="G")+((B21:AF21&"")="N")+((B21:AF21&"")="24"))) -> 0 | AK21: =SUMPRODUCT(COUNTIF(B21:AF21,Kodlar!$A$2:$A$12)*Kodlar!$C$2:$C$12) -> 0
AG22: =COUNTIF(B22:AF22,"G") -> 0 | AH22: =COUNTIF(B22:AF22,"N") -> 0 | AI22: =COUNTIF(B22:AF22,"24") -> 0 | AJ22: =SUMPRODUCT(((B$7:AF$7="Cmt")+(B$7:AF$7="Paz"))*(((B22:AF22&"")="G")+((B22:AF22&"")="N")+((B22:AF22&"")="24"))) -> 0 | AK22: =SUMPRODUCT(COUNTIF(B22:AF22,Kodlar!$A$2:$A$12)*Kodlar!$C$2:$C$12) -> 0
AG23: =COUNTIF(B23:AF23,"G") -> 0 | AH23: =COUNTIF(B23:AF23,"N") -> 0 | AI23: =COUNTIF(B23:AF23,"24") -> 0 | AJ23: =SUMPRODUCT(((B$7:AF$7="Cmt")+(B$7:AF$7="Paz"))*(((B23:AF23&"")="G")+((B23:AF23&"")="N")+((B23:AF23&"")="24"))) -> 0 | AK23: =SUMPRODUCT(COUNTIF(B23:AF23,Kodlar!$A$2:$A$12)*Kodlar!$C$2:$C$12) -> 0
AG24: =COUNTIF(B24:AF24,"G") -> 0 | AH24: =COUNTIF(B24:AF24,"N") -> 0 | AI24: =COUNTIF(B24:AF24,"24") -> 0 | AJ24: =SUMPRODUCT(((B$7:AF$7="Cmt")+(B$7:AF$7="Paz"))*(((B24:AF24&"")="G")+((B24:AF24&"")="N")+((B24:AF24&"")="24"))) -> 0 | AK24: =SUMPRODUCT(COUNTIF(B24:AF24,Kodlar!$A$2:$A$12)*Kodlar!$C$2:$C$12) -> 0
AG25: =COUNTIF(B25:AF25,"G") -> 0 | AH25: =COUNTIF(B25:AF25,"N") -> 0 | AI25: =COUNTIF(B25:AF25,"24") -> 0 | AJ25: =SUMPRODUCT(((B$7:AF$7="Cmt")+(B$7:AF$7="Paz"))*(((B25:AF25&"")="G")+((B25:AF25&"")="N")+((B25:AF25&"")="24"))) -> 0 | AK25: =SUMPRODUCT(COUNTIF(B25:AF25,Kodlar!$A$2:$A$12)*Kodlar!$C$2:$C$12) -> 0
AG26: =COUNTIF(B26:AF26,"G") -> 0 | AH26: =COUNTIF(B26:AF26,"N") -> 0 | AI26: =COUNTIF(B26:AF26,"24") -> 0 | AJ26: =SUMPRODUCT(((B$7:AF$7="Cmt")+(B$7:AF$7="Paz"))*(((B26:AF26&"")="G")+((B26:AF26&"")="N")+((B26:AF26&"")="24"))) -> 0 | AK26: =SUMPRODUCT(COUNTIF(B26:AF26,Kodlar!$A$2:$A$12)*Kodlar!$C$2:$C$12) -> 0
AG27: =COUNTIF(B27:AF27,"G") -> 0 | AH27: =COUNTIF(B27:AF27,"N") -> 0 | AI27: =COUNTIF(B27:AF27,"24") -> 0 | AJ27: =SUMPRODUCT(((B$7:AF$7="Cmt")+(B$7:AF$7="Paz"))*(((B27:AF27&"")="G")+((B27:AF27&"")="N")+((B27:AF27&"")="24"))) -> 0 | AK27: =SUMPRODUCT(COUNTIF(B27:AF27,Kodlar!$A$2:$A$12)*Kodlar!$C$2:$C$12) -> 0
A29: Günlük gündüz (G + 24) | B29: =COUNTIF(B8:B27,"G")+COUNTIF(B8:B27,"24") -> 4 | C29: =COUNTIF(C8:C27,"G")+COUNTIF(C8:C27,"24") -> 4 | D29: =COUNTIF(D8:D27,"G")+COUNTIF(D8:D27,"24") -> 4 | E29: =COUNTIF(E8:E27,"G")+COUNTIF(E8:E27,"24") -> 4 | F29: =COUNTIF(F8:F27,"G")+COUNTIF(F8:F27,"24") -> 4 | G29: =COUNTIF(G8:G27,"G")+COUNTIF(G8:G27,"24") -> 4 | H29: =COUNTIF(H8:H27,"G")+COUNTIF(H8:H27,"24") -> 4 | I29: =COUNTIF(I8:I27,"G")+COUNTIF(I8:I27,"24") -> 4 | ... AF29: =COUNTIF(AF8:AF27,"G")+COUNTIF(AF8:AF27,"24") -> 0
A30: Günlük gece (N + 24) | B30: =COUNTIF(B8:B27,"N")+COUNTIF(B8:B27,"24") -> 2 | C30: =COUNTIF(C8:C27,"N")+COUNTIF(C8:C27,"24") -> 2 | D30: =COUNTIF(D8:D27,"N")+COUNTIF(D8:D27,"24") -> 2 | E30: =COUNTIF(E8:E27,"N")+COUNTIF(E8:E27,"24") -> 2 | F30: =COUNTIF(F8:F27,"N")+COUNTIF(F8:F27,"24") -> 2 | G30: =COUNTIF(G8:G27,"N")+COUNTIF(G8:G27,"24") -> 2 | H30: =COUNTIF(H8:H27,"N")+COUNTIF(H8:H27,"24") -> 2 | I30: =COUNTIF(I8:I27,"N")+COUNTIF(I8:I27,"24") -> 2 | ... AF30: =COUNTIF(AF8:AF27,"N")+COUNTIF(AF8:AF27,"24") -> 0
A32: Bu şablonu nobetci.app hazırladı. Kuralları sizin yerinize kontrol eden çizelge için: nobetci.app

Sheet Kodlar
A1: Kod | B1: Anlamı | C1: Saat
A2: G | B2: Gündüz (08-16) | C2: 8 | E2: Saatleri servisinize göre değiştirebilirsiniz; toplam saat buradan hesaplanır.
A3: N | B3: Gece (16-08) | C3: 16 | E3: 12. satıra kadar yeni kod ekleyebilirsiniz; açılır listede kendiliğinden görünür.
A4: 24 | B4: 24 saatlik nöbet | C4: 24
A5: İ | B5: İzin | C5: 0
A6: S.İ | B6: Yıllık izin | C6: 0
A7: R | B7: Rapor | C7: 0

Sheet Nasıl kullanılır
A1: Nasıl kullanılır
A2: 1. Nöbet Çizelgesi sayfasında yıl ve ayı yazın; gün numaraları ve gün adları kendiliğinden değişir.
A3: 2. Örnek isimleri silip ekibinizi yazın; 20 satır hazır.
A4: 3. Hücreye tıklayıp açılır listeden kodu seçin. Kodlar sayfasında kod ekleyebilir, saatleri değiştirebilirsiniz.
A5: 4. Sağdaki toplamlar ve alttaki günlük kadro satırları formülle hesaplanır; elle saymayın.
A7: Bu tablo kuralları kontrol etmez: dinlenme süresini, ard arda nöbeti, izin çakışmasını ve hafta sonu dengesini siz takip edersiniz.
A8: Bu kontrolü sizin yerinize yapan ve hemşire taleplerini birlikte değerlendiren çizelge için: nobetci.app
A10: nobetci.app adresine gidin
